BEGIN:VCALENDAR
VERSION:2.0
PRODID:-//Cascade - K-8 Parent Partnership Open House - ECPv6.2.0.1//NONSG
 ML v1.0//EN
CALSCALE:GREGORIAN
X-WR-CALNAME:Cascade - K-8 Parent Partnership Open House
X-ORIGINAL-URL:https://cppp.seattleschools.org/events/k-8-parent-partnersh
 ip-open-house-5/ics/
X-WR-CALDESC:Cascade - K-8 Parent Partnership Open House
REFRESH-INTERVAL;VALUE=DURATION:PT1D
X-Robots-Tag:noindex
X-PUBLISHED-TTL:PT1D
BEGIN:VTIMEZONE
TZID:America/Vancouver
BEGIN:DAYLIGHT
TZOFFSETFROM:-0800
TZOFFSETTO:-0700
TZNAME:PDT
DTSTART:20260308T100000
END:DAYLIGHT
BEGIN:STANDARD
TZOFFSETFROM:-0700
TZOFFSETTO:-0800
TZNAME:PST
DTSTART:20261101T090000
END:STANDARD
END:VTIMEZONE
BEGIN:VEVENT
DTSTART;TZID=America/Vancouver:20260107T100000
DTEND;TZID=America/Vancouver:20260107T113000
DTSTAMP:20260424T064955Z
CREATED:20251112T122614Z
LAST-MODIFIED:20251112T122629Z
UID:https://cppp.seattleschools.org/events/k-8-parent-partnership-open-hou
 se-5/
SUMMARY:K-8 Open House
DESCRIPTION:K-8 Parent Partnership Open House
Learn more about the Cascade K-8 Parent Partnership at the Open House!
URL:https://cppp.seattleschools.org/events/k-8-parent-partnership-open-hou
 se-5/
END:VEVENT
BEGIN:VEVENT
DTSTART;TZID=America/Vancouver:20260204T100000
DTEND;TZID=America/Vancouver:20260204T113000
DTSTAMP:20260424T064955Z
CREATED:20251112T122618Z
LAST-MODIFIED:20251112T122618Z
UID:https://cppp.seattleschools.org/events/k-8-parent-partnership-open-hou
 se-5/k-8-parent-partnership-open-house/
SUMMARY:K-8 Open House
DESCRIPTION:K-8 Parent Partnership Open House
Learn more about the Cascade K-8 Parent Partnership at the Open House!
URL:https://cppp.seattleschools.org/events/k-8-parent-partnership-open-hou
 se-5/k-8-parent-partnership-open-house/
END:VEVENT
BEGIN:VEVENT
DTSTART;TZID=America/Vancouver:20260304T100000
DTEND;TZID=America/Vancouver:20260304T113000
DTSTAMP:20260424T064955Z
CREATED:20251112T122621Z
LAST-MODIFIED:20251112T122621Z
UID:https://cppp.seattleschools.org/events/k-8-parent-partnership-open-hou
 se-5/k-8-parent-partnership-open-house-2/
SUMMARY:K-8 Open House
DESCRIPTION:K-8 Parent Partnership Open House
Learn more about the Cascade K-8 Parent Partnership at the Open House!
URL:https://cppp.seattleschools.org/events/k-8-parent-partnership-open-hou
 se-5/k-8-parent-partnership-open-house-2/
END:VEVENT
BEGIN:VEVENT
DTSTART;TZID=America/Vancouver:20260401T100000
DTEND;TZID=America/Vancouver:20260401T113000
DTSTAMP:20260424T064955Z
CREATED:20251112T122623Z
LAST-MODIFIED:20251112T122623Z
UID:https://cppp.seattleschools.org/events/k-8-parent-partnership-open-hou
 se-5/k-8-parent-partnership-open-house-3/
SUMMARY:K-8 Open House
DESCRIPTION:K-8 Parent Partnership Open House
Learn more about the Cascade K-8 Parent Partnership at the Open House!
URL:https://cppp.seattleschools.org/events/k-8-parent-partnership-open-hou
 se-5/k-8-parent-partnership-open-house-3/
END:VEVENT
BEGIN:VEVENT
DTSTART;TZID=America/Vancouver:20260506T100000
DTEND;TZID=America/Vancouver:20260506T113000
DTSTAMP:20260424T064955Z
CREATED:20251112T122626Z
LAST-MODIFIED:20251112T122626Z
UID:https://cppp.seattleschools.org/events/k-8-parent-partnership-open-hou
 se-5/k-8-parent-partnership-open-house-4/
SUMMARY:K-8 Open House
DESCRIPTION:K-8 Parent Partnership Open House
Learn more about the Cascade K-8 Parent Partnership at the Open House!
URL:https://cppp.seattleschools.org/events/k-8-parent-partnership-open-hou
 se-5/k-8-parent-partnership-open-house-4/
END:VEVENT
END:VCALENDAR